BEGIN:VCALENDAR
PRODID:-//Solspace/Calendar 2.x//EN
VERSION:2.0
CALSCALE:GREGORIAN
BEGIN:VEVENT
UID:c5668cab9effcdaaedd5ff0f6f92bb41@solspace.com
DTSTAMP:20260423T005154
DTSTART:20250121T130000
DTEND:20250121T170000
RRULE:FREQ=WEEKLY;UNTIL=20250225T235959Z;INTERVAL=1;BYDAY=TU
EXDATE:20250204T130000
SUMMARY:Winter Mah Jongg Social
END:VEVENT
END:VCALENDAR
