BEGIN:VCALENDAR
PRODID:-//Solspace/Calendar 2.x//EN
VERSION:2.0
CALSCALE:GREGORIAN
BEGIN:VEVENT
UID:85e8a5a65e1c69efe2979e3379da64b1@solspace.com
DTSTAMP:20260421T214543
DTSTART:20250606T190000
DTEND:20250606T210000
SUMMARY:Contemporary Dance: Ronald K. Brown/EVIDENCE\, Gibney Compan
 y\, and SYREN Modern Dance
END:VEVENT
END:VCALENDAR
