BEGIN:VCALENDAR
PRODID:-//Solspace/Calendar 2.x//EN
VERSION:2.0
CALSCALE:GREGORIAN
BEGIN:VEVENT
UID:a08ca4b8fecef4b3ad5bd5819cfe24d7@solspace.com
DTSTAMP:20260421T231131
DTSTART:20250613T190000
DTEND:20250613T210000
SUMMARY:Contemporary Dance: Doug Varone and Dancers\, Kyle Marshall 
 Choreography\, LaneCoArts
END:VEVENT
END:VCALENDAR
