BEGIN:VCALENDAR
PRODID:-//Solspace/Calendar 2.x//EN
VERSION:2.0
CALSCALE:GREGORIAN
BEGIN:VEVENT
UID:61a2098e91e6ce7c2fafef36c2eb908b@solspace.com
DTSTAMP:20260421T184106
DTSTART:20250703T190000
DTEND:20250703T213000
SUMMARY:New York Guitar Festival: Pedro Cortes Flamenco\, Big Lazy\,
  Marel Hidalgo
END:VEVENT
END:VCALENDAR
