BEGIN:VCALENDAR
PRODID:-//Solspace/Calendar 2.x//EN
VERSION:2.0
CALSCALE:GREGORIAN
BEGIN:VEVENT
UID:0337ef273fc983fb22b82af597620f42@solspace.com
DTSTAMP:20260421T184207
DTSTART:20250704T190000
DTEND:20250704T213000
SUMMARY:New York Guitar Festival: Louis Cato\, Jackie Venson\, Jonta
 vious Willis
END:VEVENT
END:VCALENDAR
