BEGIN:VCALENDAR
PRODID:-//Solspace/Calendar 2.x//EN
VERSION:2.0
CALSCALE:GREGORIAN
BEGIN:VEVENT
UID:16815cd086b320181a4e72beac4cf1e2@solspace.com
DTSTAMP:20260421T153548
DTSTART:20250718T190000
DTEND:20250718T203000
SUMMARY:Carnegie Hall Citywide: La Excelencia
END:VEVENT
END:VCALENDAR
