BEGIN:VCALENDAR
PRODID:-//Solspace/Calendar 2.x//EN
VERSION:2.0
CALSCALE:GREGORIAN
BEGIN:VEVENT
UID:ead212cc4f8232885d7260a995dfe76a@solspace.com
DTSTAMP:20260421T040204
DTSTART:20250529T123000
DTEND:20250529T143000
SUMMARY:Tap-A-Long
END:VEVENT
BEGIN:VEVENT
UID:8b36504e041b78b0fc1e2e43d3d8960b@solspace.com
DTSTAMP:20260421T040204
DTSTART:20250911T123000
DTEND:20250911T143000
SUMMARY:Tap-A-Long
END:VEVENT
END:VCALENDAR
