BEGIN:VCALENDAR
PRODID:-//Solspace/Calendar 2.x//EN
VERSION:2.0
CALSCALE:GREGORIAN
BEGIN:VEVENT
UID:f11e846751068f57bdea292ef0905d47@solspace.com
DTSTAMP:20260419T145901
DTSTART:20250526T153000
DTEND:20250526T170000
SUMMARY:U.S. Navy and Marine Brass Band
END:VEVENT
END:VCALENDAR
