BEGIN:VCALENDAR
PRODID:-//Solspace/Calendar 2.x//EN
VERSION:2.0
CALSCALE:GREGORIAN
BEGIN:VEVENT
UID:b626130857a36b0cd134c3f2d71d7bc3@solspace.com
DTSTAMP:20260421T184106
DTSTART:20250614T120000
DTEND:20250614T150000
RRULE:FREQ=WEEKLY;UNTIL=20250706T235959Z;INTERVAL=1;BYDAY=SA
SUMMARY:Puzzle Meetups
END:VEVENT
END:VCALENDAR
