BEGIN:VCALENDAR
PRODID:-//Solspace/Calendar 2.x//EN
VERSION:2.0
CALSCALE:GREGORIAN
BEGIN:VEVENT
UID:23fa0602d351390433c77452c3a77e0b@solspace.com
DTSTAMP:20260419T213030
DTSTART:20260113T070000
DTEND:20260113T074500
SUMMARY:Hockey Clinic with Brian Sigler and Gracie Gold
END:VEVENT
END:VCALENDAR
