BEGIN:VCALENDAR
PRODID:-//Solspace/Calendar 2.x//EN
VERSION:2.0
CALSCALE:GREGORIAN
BEGIN:VEVENT
UID:e92b9e6ccb1e9678d6375c80e83e409a@solspace.com
DTSTAMP:20260419T145921
DTSTART:20260214T100000
DTEND:20260214T120000
SUMMARY:Embroidery Workshop
END:VEVENT
END:VCALENDAR
