BEGIN:VCALENDAR
PRODID:-//Solspace/Calendar 2.x//EN
VERSION:2.0
CALSCALE:GREGORIAN
BEGIN:VEVENT
UID:3af538c69451cd9df65a3411b2c3c20f@solspace.com
DTSTAMP:20260419T132637
DTSTART:20250522T150000
DTEND:20250522T190000
RRULE:FREQ=WEEKLY;UNTIL=20250828T235959Z;INTERVAL=1;BYDAY=TH
SUMMARY:Mah Jongg Social
END:VEVENT
END:VCALENDAR
