BEGIN:VCALENDAR
PRODID:-//Solspace/Calendar 2.x//EN
VERSION:2.0
CALSCALE:GREGORIAN
BEGIN:VEVENT
UID:8224f09a53898a5cf42228472e7fc92a@solspace.com
DTSTAMP:20260421T231140
DTSTART:20250611T180000
DTEND:20250611T210000
SUMMARY:Open Singles Ping Pong Tournament
END:VEVENT
END:VCALENDAR
